BEGIN:VCALENDAR
VERSION:2.0
PRODID:-//ChamberMaster//Event Calendar 2.0//EN
METHOD:PUBLISH
X-PUBLISHED-TTL:P3D
REFRESH-INTERVAL:P3D
CALSCALE:GREGORIAN
BEGIN:VEVENT
DTSTART:20201110T133000Z
DTEND:20201110T163000Z
X-MICROSOFT-CDO-ALLDAYEVENT:FALSE
SUMMARY:A Study in Ethics-VIRTUAL CLASS with Lyle Rupp
DESCRIPTION:This course is designed to provide information on ethics\, business\, social and personal. It addresses ethical topics that an agent would deal with in his or her day-to-day insurance work. How does a businesses ethics practices affect the employee and customer. Due diligence and fair consumer practices are examined in the context of accepting personal responsibility in selecting and presenting products. This course is designed to provide information on how personal ethics and social ethics affect your business and insurance practices.\n\n\n\nApproved for 3 credit hours in OH  & KY.  Concentration - Ethics
X-ALT-DESC;FMTTYPE=text/html:<p>This course is designed to provide information on ethics\, business\, social and personal. It addresses ethical topics that an agent would deal with in his or her day-to-day insurance work. How does a businesses ethics practices affect the employee and customer. Due diligence and fair consumer practices are examined in the context of accepting personal responsibility in selecting and presenting products. This course is designed to provide information on how personal ethics and social ethics affect your business and insurance practices.<br />\n<br />\nApproved for 3 credit hours in OH&nbsp\; &amp\; KY.&nbsp\; Concentration - Ethics</p>\n
LOCATION:Virtual Class - Instructions and Link sent before class
UID:e.9324.5015
SEQUENCE:3
DTSTAMP:20260420T052000Z
URL:https://business.cib-online.com/events/details/a-study-in-ethics-virtual-class-with-lyle-rupp-5015
END:VEVENT

END:VCALENDAR
