BEGIN:VCALENDAR
VERSION:2.0
PRODID:-//ChamberMaster//Event Calendar 2.0//EN
METHOD:PUBLISH
X-PUBLISHED-TTL:P3D
REFRESH-INTERVAL:P3D
CALSCALE:GREGORIAN
BEGIN:VEVENT
DTSTART:20200709T123000Z
DTEND:20200709T163000Z
X-MICROSOFT-CDO-ALLDAYEVENT:FALSE
SUMMARY:Annuity Training Course-VIRTUAL CLASS with Rick Goolsby\, CIC
DESCRIPTION:The will teach the various aspects of annuities and how they can be used to fulfill the clients needs. Topics covered include: the annuity concept\, annuity Characteristics\, types of annuities\, suitability duties of the producer\, prohibited preactices and duties of the insurer. This course is designed to provide an introduction to annuities and to meets Kentucky and Ohio's Annuity training requirement.  Approved for 4 Hours in KY & OH.  Concentration: Annuities
X-ALT-DESC;FMTTYPE=text/html:<p>The will teach the various aspects of annuities and how they can be used to fulfill the clients needs. Topics covered include: the annuity concept\, annuity Characteristics\, types of annuities\, suitability duties of the producer\, prohibited preactices and duties of the insurer. This course is designed to provide an introduction to annuities and to meets Kentucky and Ohio&#39\;s Annuity training requirement.&nbsp\; Approved&nbsp\;for 4 Hours in KY &amp\; OH.&nbsp\; Concentration: Annuities</p>\n
LOCATION:VIRTUAL CLASS - Link and Instructions sent before Class
UID:e.9324.4989
SEQUENCE:3
DTSTAMP:20260424T224234Z
URL:https://business.cib-online.com/events/details/annuity-training-course-virtual-class-with-rick-goolsby-cic-4989
END:VEVENT

END:VCALENDAR
