BEGIN:VCALENDAR
VERSION:2.0
PRODID:-//ChamberMaster//Event Calendar 2.0//EN
METHOD:PUBLISH
X-PUBLISHED-TTL:P3D
REFRESH-INTERVAL:P3D
CALSCALE:GREGORIAN
BEGIN:VEVENT
DTSTART:20210527T123000Z
DTEND:20210527T153000Z
X-MICROSOFT-CDO-ALLDAYEVENT:FALSE
SUMMARY:Business Ethics & Professionalism HYBRID Seminar w/ Tom Ryan\, AIC
DESCRIPTION:This seminar will review of unfair property and casualty claims settlement practices as set forth by various state insurance departments. It will define the ethical procedures and practices\, which constitute unfair claims practices. It will give the attendees knowledge of the minimum ethical standards of property and casualty insurance claims. Topics covered include: Definitions\, file and record documentation\, misrepresentation of policy provisions\, acknowledgement of pertinent communications\, general standards in settlement if claims\, valuations and many other topics.\n\nConcentration: Ethics. Approved for 3 hours in Indiana\, KY & OH.
X-ALT-DESC;FMTTYPE=text/html:<p style="margin: 0px 0px 10px\; padding: 0px\; outline: none\; font-size: 14px\; vertical-align: baseline\; background: rgb(238\, 238\, 238)\; border: 0px\; line-height: 24px\; font-family: open_sansregular\;">This seminar will review of unfair property and casualty claims settlement practices as set forth by various state insurance departments. It will define the ethical procedures and practices\, which constitute unfair claims practices. It will give the attendees knowledge of the minimum ethical standards of property and casualty insurance claims. Topics covered include: Definitions\, file and record documentation\, misrepresentation of policy provisions\, acknowledgement of pertinent communications\, general standards in settlement if claims\, valuations and many other topics.<br />\nConcentration: Ethics. Approved for 3&nbsp\;hours in Indiana\, KY &amp\; OH.</p>\n
LOCATION:Classroom 5535 Fair Lane Suite D Cincinnati\, OH 45227 & Virtual - Virtual Links with Instructions sent before class.
UID:e.9324.5086
SEQUENCE:3
DTSTAMP:20260423T164158Z
URL:https://business.cib-online.com/events/details/business-ethics-professionalism-hybrid-seminar-w-tom-ryan-aic-5086
END:VEVENT

END:VCALENDAR
