BEGIN:VCALENDAR
VERSION:2.0
PRODID:-//ChamberMaster//Event Calendar 2.0//EN
METHOD:PUBLISH
X-PUBLISHED-TTL:P3D
REFRESH-INTERVAL:P3D
CALSCALE:GREGORIAN
BEGIN:VEVENT
DTSTART:20200908T130000Z
DTEND:20200908T160000Z
X-MICROSOFT-CDO-ALLDAYEVENT:FALSE
SUMMARY:Dayton - Ethics: Shades of Gray with Tom Ryan\, AIC
DESCRIPTION:This course will teach ethical principles and how they relate to the insurance industry. Case studies will be used to illustrate these principles of ethics. After this course the attendee will have a better understanding of ethical issues and values.\n\nFiled for 3 credit hours in OH.  Concentration - Ethics
X-ALT-DESC;FMTTYPE=text/html:<p>This course will teach ethical principles and how they relate to the insurance industry. Case studies will be used to illustrate these principles of ethics. After this course the attendee will have a better understanding of ethical issues and values.</p>\n\n<p>Filed for 3 credit hours in OH.&nbsp\; Concentration - Ethics</p>\n
LOCATION:Presidential Banquet Center 4548 Presidential Way Kettering\, OH 45429.
UID:e.9324.5006
SEQUENCE:3
DTSTAMP:20260420T090537Z
URL:https://business.cib-online.com/events/details/dayton-ethics-shades-of-gray-with-tom-ryan-aic-5006
END:VEVENT

END:VCALENDAR
