BEGIN:VCALENDAR
VERSION:2.0
PRODID:-//ChamberMaster//Event Calendar 2.0//EN
METHOD:PUBLISH
X-PUBLISHED-TTL:P3D
REFRESH-INTERVAL:P3D
CALSCALE:GREGORIAN
BEGIN:VEVENT
DTSTART:20250320T163000Z
DTEND:20250320T193000Z
X-MICROSOFT-CDO-ALLDAYEVENT:FALSE
SUMMARY:Ethics for Insurance Agents with Tom Ryan\, AIC
DESCRIPTION:This seminar will discuss how the agent can best serve their customers in a time of need. What are the ethical responsibilities of the agent in event of a claim? How do you determine coverage and guide the client and claimant\, fairness in dealings? Topics covered include: determining legal liability\, ethical responsibilities\, techniques in processing a claim and the claim evaluation process. The seminar will also be taught various aspects of law that deal with claims handling.\n\n\n\nInstructor: Thomas Ryan. Approved for 3 hours in OH & KY.  Concentration - Ethics
X-ALT-DESC;FMTTYPE=text/html:This seminar will discuss how the agent can best serve their customers in a time of need. What are the ethical responsibilities of the agent in event of a claim? How do you determine coverage and guide the client and claimant\, fairness in dealings? Topics covered include: determining legal liability\, ethical responsibilities\, techniques in processing a claim and the claim evaluation process. The seminar will also be taught various aspects of law that deal with claims handling.<br />\n<br />\nInstructor: Thomas Ryan. Approved for 3 hours in OH &amp\; KY.&nbsp\; Concentration - Ethics<br />\n<br />\n&nbsp\;
LOCATION:Classroom of Virtual. Links will be sent out prior to the class date. Greater Cincinnati Insurance Board 2300 Wall St. Suite N Norwood\, Ohio 45212
UID:e.9324.5619
SEQUENCE:3
DTSTAMP:20260425T165345Z
URL:https://business.cib-online.com/events/details/ethics-for-insurance-agents-with-tom-ryan-aic-5619
END:VEVENT

END:VCALENDAR
