BEGIN:VCALENDAR
VERSION:2.0
PRODID:-//ChamberMaster//Event Calendar 2.0//EN
METHOD:PUBLISH
X-PUBLISHED-TTL:P3D
REFRESH-INTERVAL:P3D
CALSCALE:GREGORIAN
BEGIN:VEVENT
DTSTART:20210526T140000Z
DTEND:20210526T151500Z
X-MICROSOFT-CDO-ALLDAYEVENT:FALSE
SUMMARY:Ever hired the wrong person? May Monthly Member Meeting - Omnia Personality Profile
DESCRIPTION:Are you unsure how to motivate employees to reach their greatest potential? Are you wondering why your business has some high performing teams and others that are falling behind? Are you experiencing high employee turnover that is costing you money and lowering company morale?\n\nThe first step toward workforce success is selecting employees that are the right fit for both the job role and your company. But while the hiring process is certainly crucial\, the work doesn't stop there.\n\nIf you aren't maintaining employee engagement through a well-thought-out employee retention strategy\, you'll likely lose the top talent you worked so hard to attract. That's why our pre-employment assessments can be used at different points in the employee lifecycle.
X-ALT-DESC;FMTTYPE=text/html:<div style="color: rgb(64\, 63\, 66)\; font-family: Arial\, Verdana\, Helvetica\, sans-serif\; font-size: 12px\; white-space: pre-wrap\; text-align: center\;"><span style="font-size: 16px\; color: rgb(64\, 64\, 64)\; font-family: Calibri\, Helvetica\, Arial\, sans-serif\;">Are you unsure how to motivate employees to reach their greatest potential? Are you wondering why your business has some high performing teams and others that are falling behind? Are you experiencing high employee turnover that is costing you money and lowering company morale?</span></div>\n\n<div style="color: rgb(64\, 63\, 66)\; font-family: Arial\, Verdana\, Helvetica\, sans-serif\; font-size: 12px\; white-space: pre-wrap\; text-align: center\;"><span style="font-size: 16px\; color: rgb(64\, 64\, 64)\; font-family: Calibri\, Helvetica\, Arial\, sans-serif\;">The first step toward workforce success is selecting employees that are the right fit for both the job role and your company. But while the hiring process is certainly crucial\, the work doesn&rsquo\;t stop there.</span></div>\n\n<div style="color: rgb(64\, 63\, 66)\; font-family: Arial\, Verdana\, Helvetica\, sans-serif\; font-size: 12px\; white-space: pre-wrap\; text-align: center\;"><span style="font-size: 16px\; color: rgb(64\, 64\, 64)\; font-family: Calibri\, Helvetica\, Arial\, sans-serif\;">If you aren&rsquo\;t maintaining employee engagement through a well-thought-out employee retention strategy\, you&rsquo\;ll likely lose the top talent you worked so hard to attract. That&rsquo\;s why our pre-employment assessments can be used at different points in the employee lifecycle.</span></div>\n
LOCATION:Virtual
UID:e.9324.5106
SEQUENCE:3
DTSTAMP:20260424T201121Z
URL:https://business.cib-online.com/events/details/ever-hired-the-wrong-person-may-monthly-member-meeting-omnia-personality-profile-5106
END:VEVENT

END:VCALENDAR
