BEGIN:VCALENDAR
VERSION:2.0
PRODID:-//ChamberMaster//Event Calendar 2.0//EN
METHOD:PUBLISH
X-PUBLISHED-TTL:P3D
REFRESH-INTERVAL:P3D
CALSCALE:GREGORIAN
BEGIN:VEVENT
DTSTART:20231128T173000Z
DTEND:20231128T203000Z
X-MICROSOFT-CDO-ALLDAYEVENT:FALSE
SUMMARY:VIRTUAL ONLY - How to Read and Understand the Business Auto Policy w/ Tom Ryan\, AIC
DESCRIPTION:This basic seminars will provide attendees with an overview of the steps required in analyzing coverage language for a better understanding of the respective policy.  Practical advice will be provided to provide guidance and assistance to their policyholders\, especially after a claim has been filed with the carrier. \n\n \n\nConcentration - P/C. Filed for 3 hours in KY & OH
X-ALT-DESC;FMTTYPE=text/html:<p><span style="letter-spacing:.05pt\;"><span style="color:black\;"><span style="font-family:times new roman\,serif\;"><span style="font-size:11.0pt\;">This basic seminars will provide attendees with an overview of the steps required in analyzing coverage language for a better understanding of the respective policy.&nbsp\; Practical advice will be provided to provide guidance and assistance to their policyholders\, especially after a claim has been filed with the carrier.&nbsp\;<br />\n&nbsp\;</span></span></span></span><br />\n<span style="color:black\;">Concentration -&nbsp\;</span>P/C. Filed&nbsp\;for 3&nbsp\;hours in KY &amp\; OH</p>\n
LOCATION:We are only offering a Virtual option for this course. Instructions and links will be sent prior to the class date.
UID:e.9324.5496
SEQUENCE:3
DTSTAMP:20260420T094322Z
URL:https://business.cib-online.com/events/details/virtual-only-how-to-read-and-understand-the-business-auto-policy-w-tom-ryan-aic-5496
END:VEVENT

END:VCALENDAR
